BEGIN:VCALENDAR
VERSION:2.0
PRODID:-//BEUERN - ECPv6.15.20//NONSGML v1.0//EN
CALSCALE:GREGORIAN
METHOD:PUBLISH
X-WR-CALNAME:BEUERN
X-ORIGINAL-URL:https://www.beuern.com
X-WR-CALDESC:Veranstaltungen für BEUERN
REFRESH-INTERVAL;VALUE=DURATION:PT1H
X-Robots-Tag:noindex
X-PUBLISHED-TTL:PT1H
BEGIN:VTIMEZONE
TZID:Europe/Berlin
BEGIN:DAYLIGHT
TZOFFSETFROM:+0100
TZOFFSETTO:+0200
TZNAME:CEST
DTSTART:20250330T010000
END:DAYLIGHT
BEGIN:STANDARD
TZOFFSETFROM:+0200
TZOFFSETTO:+0100
TZNAME:CET
DTSTART:20251026T010000
END:STANDARD
BEGIN:DAYLIGHT
TZOFFSETFROM:+0100
TZOFFSETTO:+0200
TZNAME:CEST
DTSTART:20260329T010000
END:DAYLIGHT
BEGIN:STANDARD
TZOFFSETFROM:+0200
TZOFFSETTO:+0100
TZNAME:CET
DTSTART:20261025T010000
END:STANDARD
BEGIN:DAYLIGHT
TZOFFSETFROM:+0100
TZOFFSETTO:+0200
TZNAME:CEST
DTSTART:20270328T010000
END:DAYLIGHT
BEGIN:STANDARD
TZOFFSETFROM:+0200
TZOFFSETTO:+0100
TZNAME:CET
DTSTART:20271031T010000
END:STANDARD
END:VTIMEZONE
BEGIN:VEVENT
DTSTART;TZID=Europe/Berlin:20260226T193000
DTEND;TZID=Europe/Berlin:20260226T220000
DTSTAMP:20260421T102025
CREATED:20260205T073601Z
LAST-MODIFIED:20260205T075725Z
UID:1300-1772134200-1772143200@www.beuern.com
SUMMARY:Jahreshauptversammlung und Information zur Kommunalwahl 2026
DESCRIPTION:Jahreshauptversammlung und Information zur Kommunalwahl 2026 mit anschliesenden Dämmerschoppen.
URL:https://www.beuern.com/event/jahreshauptversammlung-und-information-zur-kommunalwahl-2026/
LOCATION:Jugendheim\, Kirchstraße\, Beuern\, 86926
CATEGORIES:Beuern
END:VEVENT
END:VCALENDAR